BEGIN:VCALENDAR
VERSION:2.0
PRODID:-//Ueli Fisch - ECPv5.6.0//NONSGML v1.0//EN
CALSCALE:GREGORIAN
METHOD:PUBLISH
X-WR-CALNAME:Ueli Fisch
X-ORIGINAL-URL:https://www.uelifisch.ch
X-WR-CALDESC:Veranstaltungen für Ueli Fisch
BEGIN:VTIMEZONE
TZID:Europe/Zurich
BEGIN:DAYLIGHT
TZOFFSETFROM:+0100
TZOFFSETTO:+0200
TZNAME:CEST
DTSTART:20200329T010000
END:DAYLIGHT
BEGIN:STANDARD
TZOFFSETFROM:+0200
TZOFFSETTO:+0100
TZNAME:CET
DTSTART:20201025T010000
END:STANDARD
END:VTIMEZONE
BEGIN:VEVENT
DTSTART;TZID=Europe/Zurich:20200229T170000
DTEND;TZID=Europe/Zurich:20200229T180000
DTSTAMP:20231114T010652
CREATED:20200225T160710Z
LAST-MODIFIED:20200225T160710Z
UID:14097-1582995600-1582999200@www.uelifisch.ch
SUMMARY:Zu Gast beim Jugendparlament Thurgau
DESCRIPTION:Am Samstagabend 17.00 Uhr bin ich zu Gast beim Jugendparlament Thurgau im Brauhaus Frauenfeld. Im Rahmen des „Verzell\, mol“ werden mir Fragen zu meinem politischen Werdegang gestellt. Da bin ich mal gespannt auf die Fragen der jungen Politikinteressierten.
URL:https://www.uelifisch.ch/agende/zu-gast-beim-jugendparlament-thurgau/
LOCATION:Frauenfeld Brauhaus
END:VEVENT
END:VCALENDAR