BEGIN:VCALENDAR
VERSION:2.0
PRODID:-//Ueli Fisch - ECPv5.6.0//NONSGML v1.0//EN
CALSCALE:GREGORIAN
METHOD:PUBLISH
X-WR-CALNAME:Ueli Fisch
X-ORIGINAL-URL:https://www.uelifisch.ch
X-WR-CALDESC:Veranstaltungen für Ueli Fisch
BEGIN:VTIMEZONE
TZID:Europe/Zurich
BEGIN:DAYLIGHT
TZOFFSETFROM:+0100
TZOFFSETTO:+0200
TZNAME:CEST
DTSTART:20230326T010000
END:DAYLIGHT
BEGIN:STANDARD
TZOFFSETFROM:+0200
TZOFFSETTO:+0100
TZNAME:CET
DTSTART:20231029T010000
END:STANDARD
END:VTIMEZONE
BEGIN:VEVENT
DTSTART;TZID=Europe/Zurich:20230929T143000
DTEND;TZID=Europe/Zurich:20230929T170000
DTSTAMP:20231113T141934
CREATED:20230718T093435Z
LAST-MODIFIED:20230924T151250Z
UID:14874-1695997800-1696006800@www.uelifisch.ch
SUMMARY:WEGA Polit-Talk Thurgauer Zeitung
DESCRIPTION:Die Thurgauer Zeitung organisiert einen Polit-Talk\, der auf der Hauptbühne der Wega stattfinden wird. Ich bin auch dabei und werde um 15.35 zusammen mit Kurt Egger\, Diana Gutjahr und Hansjörg Brunner auf der Bühne stehen und mich den Fragen von David Angst und Mario Testa stellen. Folgendes Programm ist vorgesehen: \n14.50 Uhr NR (3 Personen\, Pascal Schmid SVP\, Barbara Dätwyler SP\, Christian Stricker\, EVP) \n15.10 Uhr NR (4 Personen\, Manuel Strupler SVP\, Christian Lohr Mitte\, Nina Schläfli\, SP\, Daniel Frischknecht EDU\,) \n15.35 Uhr NR (4 Personen\, Kurt Egger GP\, Diana Gutjahr SVP\, Hansjörg Brunner\, FDP\, Ueli Fisch GLP) \n16.00 Uhr SR (5 Personen\, Brigitte Häberli Mitte\, Jakob Stark SVP\, Stefan Leuthold GLP\, Kris Vietze FDP\, Robin Spiri Aufrecht)
URL:https://www.uelifisch.ch/agende/wega-polit-talk-thurgauer-zeitung/
LOCATION:Wega Weinfelden
ATTACH;FMTTYPE=image/jpeg:https://www.uelifisch.ch/wp-content/uploads/2023/07/IMG_1424.jpg
END:VEVENT
END:VCALENDAR