BEGIN:VCALENDAR
VERSION:2.0
PRODID:-//Ueli Fisch - ECPv5.6.0//NONSGML v1.0//EN
CALSCALE:GREGORIAN
METHOD:PUBLISH
X-WR-CALNAME:Ueli Fisch
X-ORIGINAL-URL:https://www.uelifisch.ch
X-WR-CALDESC:Veranstaltungen für Ueli Fisch
BEGIN:VTIMEZONE
TZID:Europe/Zurich
BEGIN:DAYLIGHT
TZOFFSETFROM:+0100
TZOFFSETTO:+0200
TZNAME:CEST
DTSTART:20220327T010000
END:DAYLIGHT
BEGIN:STANDARD
TZOFFSETFROM:+0200
TZOFFSETTO:+0100
TZNAME:CET
DTSTART:20221030T010000
END:STANDARD
END:VTIMEZONE
BEGIN:VEVENT
DTSTART;TZID=Europe/Zurich:20221029T140000
DTEND;TZID=Europe/Zurich:20221029T180000
DTSTAMP:20231113T203121
CREATED:20221010T164052Z
LAST-MODIFIED:20221010T164052Z
UID:14568-1667052000-1667066400@www.uelifisch.ch
SUMMARY:Wa(h)lquarium - Simultanschachturnier mit Vize-Schweizermeister Noah Fecker
DESCRIPTION:Barbetrieb und Würste vom Holzkohlengrill \nSimultan Schachturnier mit dem Vize-Schweizermeister Noah Fecker \nGlanzresultat für FM Noah Fecker (Eggersriet) beim Chess Festival im französischen Rochefort: Der 17-jährige St. Galler belegte in der Masters-Kategorie als Startnummer 16 sensationell den 2. Platz – punkt- und Buchholz-gleich mit dem französischen Turniersieger GM Christian Bauer!
URL:https://www.uelifisch.ch/agende/wahlquarium-simultanschachturnier-mit-vize-schweizermeister-noah-fecker/
LOCATION:Wa(h)lquarium\, Marktplatz\, Weinfelden\, 8570\, Schweiz
CATEGORIES:Wa(h)lquarium
ATTACH;FMTTYPE=image/jpeg:https://www.uelifisch.ch/wp-content/uploads/2022/10/Noah_Fecker-1c524ab3.jpg
END:VEVENT
END:VCALENDAR