BEGIN:VCALENDAR
VERSION:2.0
PRODID:-//Ueli Fisch - ECPv5.6.0//NONSGML v1.0//EN
CALSCALE:GREGORIAN
METHOD:PUBLISH
X-WR-CALNAME:Ueli Fisch
X-ORIGINAL-URL:https://www.uelifisch.ch
X-WR-CALDESC:Veranstaltungen für Ueli Fisch
BEGIN:VTIMEZONE
TZID:Europe/Zurich
BEGIN:DAYLIGHT
TZOFFSETFROM:+0100
TZOFFSETTO:+0200
TZNAME:CEST
DTSTART:20220327T010000
END:DAYLIGHT
BEGIN:STANDARD
TZOFFSETFROM:+0200
TZOFFSETTO:+0100
TZNAME:CET
DTSTART:20221030T010000
END:STANDARD
END:VTIMEZONE
BEGIN:VEVENT
DTSTART;TZID=Europe/Zurich:20221112T100000
DTEND;TZID=Europe/Zurich:20221112T120000
DTSTAMP:20231113T173938
CREATED:20221011T214718Z
LAST-MODIFIED:20221011T214718Z
UID:14601-1668247200-1668254400@www.uelifisch.ch
SUMMARY:Wa(h)lquarium - Matinée-Konzert mit The Cello Sky
DESCRIPTION:Barbetrieb und kulinarischer Höhepunkt mit Toms Röstibar \nMatinée-Konzert mit Oliver Wendel & Sohn – The Cello Sky
URL:https://www.uelifisch.ch/agende/wahlquarium-matinee-konzert-mit-the-cello-sky/
LOCATION:Wa(h)lquarium\, Marktplatz\, Weinfelden\, 8570\, Schweiz
CATEGORIES:Wa(h)lquarium
ATTACH;FMTTYPE=image/jpeg:https://www.uelifisch.ch/wp-content/uploads/2022/10/Cello.jpg
END:VEVENT
END:VCALENDAR