BEGIN:VCALENDAR
VERSION:2.0
PRODID:-//Ueli Fisch - ECPv5.6.0//NONSGML v1.0//EN
CALSCALE:GREGORIAN
METHOD:PUBLISH
X-WR-CALNAME:Ueli Fisch
X-ORIGINAL-URL:https://www.uelifisch.ch
X-WR-CALDESC:Veranstaltungen für Ueli Fisch
BEGIN:VTIMEZONE
TZID:Europe/Zurich
BEGIN:DAYLIGHT
TZOFFSETFROM:+0100
TZOFFSETTO:+0200
TZNAME:CEST
DTSTART:20220327T010000
END:DAYLIGHT
BEGIN:STANDARD
TZOFFSETFROM:+0200
TZOFFSETTO:+0100
TZNAME:CET
DTSTART:20221030T010000
END:STANDARD
END:VTIMEZONE
BEGIN:VEVENT
DTSTART;TZID=Europe/Zurich:20221028T180000
DTEND;TZID=Europe/Zurich:20221028T230000
DTSTAMP:20231114T130744
CREATED:20221010T161900Z
LAST-MODIFIED:20221011T210207Z
UID:14556-1666980000-1666998000@www.uelifisch.ch
SUMMARY:Wa(h)lquarium - Crazy Concert mit der Punkband "Bikini Beach"
DESCRIPTION:Barbetrieb und Würste vom Holzkohlengrill \nKonzert der Punkband „Bikini Beach“ \n„Die Garage-Rock-Band aus Konstanz präsentiert ihre drückende Musik mit sympathisch-cooler Slacker-Attitüde\, hält die Songs mit brummenden Riffs und vorantreibendem Schlagzeug eingängig wie eindringlich\, lässt sich aber immer wieder zu lauten Ausbrüchen hinreißen“ Visions \n\n 
URL:https://www.uelifisch.ch/agende/wahlquarium-crazy-concert-mit-der-punkband-bikini-beach/
CATEGORIES:Wa(h)lquarium
ATTACH;FMTTYPE=image/jpeg:https://www.uelifisch.ch/wp-content/uploads/2022/10/bikini-beach1.jpg
END:VEVENT
END:VCALENDAR