BEGIN:VCALENDAR
VERSION:2.0
PRODID:-//Ueli Fisch - ECPv5.6.0//NONSGML v1.0//EN
CALSCALE:GREGORIAN
METHOD:PUBLISH
X-WR-CALNAME:Ueli Fisch
X-ORIGINAL-URL:https://www.uelifisch.ch
X-WR-CALDESC:Veranstaltungen für Ueli Fisch
BEGIN:VTIMEZONE
TZID:Europe/Zurich
BEGIN:DAYLIGHT
TZOFFSETFROM:+0100
TZOFFSETTO:+0200
TZNAME:CEST
DTSTART:20220327T010000
END:DAYLIGHT
BEGIN:STANDARD
TZOFFSETFROM:+0200
TZOFFSETTO:+0100
TZNAME:CET
DTSTART:20221030T010000
END:STANDARD
END:VTIMEZONE
BEGIN:VEVENT
DTSTART;TZID=Europe/Zurich:20221104T170000
DTEND;TZID=Europe/Zurich:20221104T230000
DTSTAMP:20231114T133635
CREATED:20221011T211412Z
LAST-MODIFIED:20221011T211412Z
UID:14585-1667581200-1667602800@www.uelifisch.ch
SUMMARY:Wa(h)lquarium - Alphorn-Konzert mit Roland Müller
DESCRIPTION:Alphorn-Konzert mit Roland Müller \nBarbetrieb am Wyfelder Fritig
URL:https://www.uelifisch.ch/agende/wahlquarium-alphorn-konzert-mit-roland-mueller/
LOCATION:Wa(h)lquarium\, Marktplatz\, Weinfelden\, 8570\, Schweiz
CATEGORIES:Wa(h)lquarium
ATTACH;FMTTYPE=image/jpeg:https://www.uelifisch.ch/wp-content/uploads/2022/10/Alphorn.jpg
END:VEVENT
END:VCALENDAR