BEGIN:VCALENDAR
VERSION:2.0
PRODID:-//Ueli Fisch - ECPv5.6.0//NONSGML v1.0//EN
CALSCALE:GREGORIAN
METHOD:PUBLISH
X-WR-CALNAME:Ueli Fisch
X-ORIGINAL-URL:https://www.uelifisch.ch
X-WR-CALDESC:Veranstaltungen für Ueli Fisch
BEGIN:VTIMEZONE
TZID:Europe/Zurich
BEGIN:DAYLIGHT
TZOFFSETFROM:+0100
TZOFFSETTO:+0200
TZNAME:CEST
DTSTART:20220327T010000
END:DAYLIGHT
BEGIN:STANDARD
TZOFFSETFROM:+0200
TZOFFSETTO:+0100
TZNAME:CET
DTSTART:20221030T010000
END:STANDARD
END:VTIMEZONE
BEGIN:VEVENT
DTSTART;TZID=Europe/Zurich:20221111T190000
DTEND;TZID=Europe/Zurich:20221111T230000
DTSTAMP:20231113T174657
CREATED:20221011T213213Z
LAST-MODIFIED:20221109T085707Z
UID:14594-1668193200-1668207600@www.uelifisch.ch
SUMMARY:Wa(h)lquarim - Lesung mit Peter Stamm "Weihnachtsgeschichte" und Jazz-Konzert mit Ruben Gasser
DESCRIPTION:Barbetrieb und kulinarischer Höhepunkt mit Toms Röstibar \nDer in Weinfelden aufgewachsene bekannte Autor Peter Stamm liest aus seiner „Weihnachtsgeschichte“ \nPeter Stamm\, (geboren 1963) Aufgewachsen in Weinfelden im Kanton Thurgau. Nach einer kaufmännischen Lehre einige Semester Studium der Anglistik\, Psychologie und Psychopathologie an der Universität Zürich. Seit 1990 freier Autor und Journalist. Peter Stamm schrieb Reportagen und Satiren unter anderen für die Neue Zürcher Zeitung\, den Nebelspalter und das Magazin des Tages-Anzeigers. Längere Auslandaufenthalte\, u.a. in Paris\, New York und Berlin. Lebt mit seiner Familie in Winterthur.\nPeter Stamm schrieb zahlreiche Hörspiele und Theaterstücke. 1998 erschien sein erster Roman „Agnes“. Seither sind fünf Erzählsammlungen und sechs weitere Romane erschienen\, zuletzt 2020 „Wenn es dunkel wird“. Werke von Peter Stamm wurden in 39 Sprachen übersetzt. Lesereisen in viele Länder\, unter anderem nach China\, Mexiko\, Russland\, in die arabischen Emirate\, nach Kolumbien und in den Iran. \nJazz-Konzert mit Ruben Gasser \nDer 16-jährige Ruben Gasser begeistert am Piano. Begleitet wird er von Sängerin Annika Lacher und Micha Gasser an den Drums. \n 
URL:https://www.uelifisch.ch/agende/wahlquarim-lesung-mit-peter-stamm-weihnachtsgeschichte-und-jazz-konzert-mit-ruben-gasser/
LOCATION:Wa(h)lquarium\, Marktplatz\, Weinfelden\, 8570\, Schweiz
CATEGORIES:Wa(h)lquarium
ATTACH;FMTTYPE=image/jpeg:https://www.uelifisch.ch/wp-content/uploads/2022/10/Peter-Stamm_Marbach.jpg
END:VEVENT
END:VCALENDAR