BEGIN:VCALENDAR
VERSION:2.0
PRODID:-//Ueli Fisch - ECPv5.6.0//NONSGML v1.0//EN
CALSCALE:GREGORIAN
METHOD:PUBLISH
X-WR-CALNAME:Ueli Fisch
X-ORIGINAL-URL:https://www.uelifisch.ch
X-WR-CALDESC:Veranstaltungen für Ueli Fisch
BEGIN:VTIMEZONE
TZID:Europe/Zurich
BEGIN:DAYLIGHT
TZOFFSETFROM:+0100
TZOFFSETTO:+0200
TZNAME:CEST
DTSTART:20230326T010000
END:DAYLIGHT
BEGIN:STANDARD
TZOFFSETFROM:+0200
TZOFFSETTO:+0100
TZNAME:CET
DTSTART:20231029T010000
END:STANDARD
END:VTIMEZONE
BEGIN:VEVENT
DTSTART;TZID=Europe/Zurich:20230707T140000
DTEND;TZID=Europe/Zurich:20230707T160000
DTSTAMP:20231114T134334
CREATED:20230625T192858Z
LAST-MODIFIED:20230625T192908Z
UID:14818-1688738400-1688745600@www.uelifisch.ch
SUMMARY:Wahlpodium PMS Kreuzlingen
DESCRIPTION:Die Schüler der 3. Klassen der Pädagogischen Maturitätsschulen Kreuzlingen (PMS) führen im Rahmen ihrer Rechtswoche ein politisches Podium durch. Nebst mir sind auf dem Podium Nina Schläfli (SP)\, Michèle Strähl (FDP) und Manuel Strupler (SVP) vertreten. Ich freue mich auf spannende Fragen der Schülerinnen und Schüler und auf ein faires Podium.
URL:https://www.uelifisch.ch/agende/wahlpodium-pms-kreuzlingen/
LOCATION:Katholisches Kirchgemeindehaus\, Gaissbergstrasse 1\, Kreuzlingen\, 8280\, Schweiz
END:VEVENT
END:VCALENDAR