BEGIN:VCALENDAR
VERSION:2.0
PRODID:-//Ueli Fisch - ECPv5.6.0//NONSGML v1.0//EN
CALSCALE:GREGORIAN
METHOD:PUBLISH
X-WR-CALNAME:Ueli Fisch
X-ORIGINAL-URL:https://www.uelifisch.ch
X-WR-CALDESC:Veranstaltungen für Ueli Fisch
BEGIN:VTIMEZONE
TZID:Europe/Zurich
BEGIN:DAYLIGHT
TZOFFSETFROM:+0100
TZOFFSETTO:+0200
TZNAME:CEST
DTSTART:20190331T010000
END:DAYLIGHT
BEGIN:STANDARD
TZOFFSETFROM:+0200
TZOFFSETTO:+0100
TZNAME:CET
DTSTART:20191027T010000
END:STANDARD
END:VTIMEZONE
BEGIN:VEVENT
DTSTART;TZID=Europe/Zurich:20190907T090000
DTEND;TZID=Europe/Zurich:20190907T120000
DTSTAMP:20231114T030458
CREATED:20190823T103633Z
LAST-MODIFIED:20190823T103633Z
UID:13504-1567846800-1567857600@www.uelifisch.ch
SUMMARY:Wahlkampf auf der Strasse in Frauenfeld
DESCRIPTION:Das glp-Team ist aktiv in Frauenfeld. Wir treffen die Bevölkerung am Samstagmorgen beim Sämannsbrunnen.
URL:https://www.uelifisch.ch/agende/wahlkampf-auf-der-strasse-in-frauenfeld/
LOCATION:Frauenfeld Sämannsbrunnen\, Frauenfeld
END:VEVENT
END:VCALENDAR