BEGIN:VCALENDAR
VERSION:2.0
PRODID:-//Ueli Fisch - ECPv5.6.0//NONSGML v1.0//EN
CALSCALE:GREGORIAN
METHOD:PUBLISH
X-WR-CALNAME:Ueli Fisch
X-ORIGINAL-URL:https://www.uelifisch.ch
X-WR-CALDESC:Veranstaltungen für Ueli Fisch
BEGIN:VTIMEZONE
TZID:Europe/Zurich
BEGIN:DAYLIGHT
TZOFFSETFROM:+0100
TZOFFSETTO:+0200
TZNAME:CEST
DTSTART:20190331T010000
END:DAYLIGHT
BEGIN:STANDARD
TZOFFSETFROM:+0200
TZOFFSETTO:+0100
TZNAME:CET
DTSTART:20191027T010000
END:STANDARD
END:VTIMEZONE
BEGIN:VEVENT
DTSTART;TZID=Europe/Zurich:20191005T090000
DTEND;TZID=Europe/Zurich:20191005T120000
DTSTAMP:20231114T024135
CREATED:20190904T205227Z
LAST-MODIFIED:20191003T072418Z
UID:13613-1570266000-1570276800@www.uelifisch.ch
SUMMARY:Wahlkampf auf der Strasse in Amriswil
DESCRIPTION:Am Samstag 5.10.2019 zeigen wir uns in Amriswil  auf der neuen Verbindung zwischen Migros und Amriville. Wir sind von 09.00 bis 12.00 Uhr präsent und freuen uns auf viele Besuche und interessante Begegnungen.
URL:https://www.uelifisch.ch/agende/wahlkampf-auf-der-strasse-in-amriswil/
LOCATION:Amriswil
END:VEVENT
END:VCALENDAR