BEGIN:VCALENDAR
VERSION:2.0
PRODID:-//Ueli Fisch - ECPv5.6.0//NONSGML v1.0//EN
CALSCALE:GREGORIAN
METHOD:PUBLISH
X-WR-CALNAME:Ueli Fisch
X-ORIGINAL-URL:https://www.uelifisch.ch
X-WR-CALDESC:Veranstaltungen für Ueli Fisch
BEGIN:VTIMEZONE
TZID:Europe/Zurich
BEGIN:DAYLIGHT
TZOFFSETFROM:+0100
TZOFFSETTO:+0200
TZNAME:CEST
DTSTART:20190331T010000
END:DAYLIGHT
BEGIN:STANDARD
TZOFFSETFROM:+0200
TZOFFSETTO:+0100
TZNAME:CET
DTSTART:20191027T010000
END:STANDARD
END:VTIMEZONE
BEGIN:VEVENT
DTSTART;TZID=Europe/Zurich:20190831T070000
DTEND;TZID=Europe/Zurich:20190831T160000
DTSTAMP:20231114T025611
CREATED:20190823T103432Z
LAST-MODIFIED:20190823T103432Z
UID:13502-1567234800-1567267200@www.uelifisch.ch
SUMMARY:Wahlkampf auf der Strasse: Flohmarkt/Biomarkt Weinfelden
DESCRIPTION:Wie jedes Jahr nimmt die glp des Bezirks Weinfelden am Flohmarkt in Weinfelden teil. Wir tun etwas für die Nachhaltigkeit\, indem wir die Lebensdauer von gebrauchten Gegenständen verlängern. Wir tun aber auch gleichzeitig etwas für unsere Kasse 🙂 \nParallel zum Flohmarkt findet auch der beliebte Biomarkt statt. Wir nutzen die Anlässe um einerseits weiter Unterschriften für die kantonale Volksinitiative Biodiversität zu sammeln und für die nationalen Wahlen zu werben. Einige der Thurgauer glp Nationalratskandidaten werden ebenfalls anwesend sein.
URL:https://www.uelifisch.ch/agende/wahlkampf-auf-der-strasse-flohmarkt-biomarkt-weinfelden/
LOCATION:Flohmarkt Weinfelden\, Marktplatz\, Weinfelden \, 8570\, Schweiz
END:VEVENT
END:VCALENDAR