BEGIN:VCALENDAR
VERSION:2.0
PRODID:-//Ueli Fisch - ECPv5.6.0//NONSGML v1.0//EN
CALSCALE:GREGORIAN
METHOD:PUBLISH
X-WR-CALNAME:Ueli Fisch
X-ORIGINAL-URL:https://www.uelifisch.ch
X-WR-CALDESC:Veranstaltungen für Ueli Fisch
BEGIN:VTIMEZONE
TZID:Europe/Zurich
BEGIN:DAYLIGHT
TZOFFSETFROM:+0100
TZOFFSETTO:+0200
TZNAME:CEST
DTSTART:20190331T010000
END:DAYLIGHT
BEGIN:STANDARD
TZOFFSETFROM:+0200
TZOFFSETTO:+0100
TZNAME:CET
DTSTART:20191027T010000
END:STANDARD
END:VTIMEZONE
BEGIN:VEVENT
DTSTART;TZID=Europe/Zurich:20190914T120000
DTEND;TZID=Europe/Zurich:20190914T160000
DTSTAMP:20231114T025850
CREATED:20190904T204229Z
LAST-MODIFIED:20190904T204229Z
UID:13605-1568462400-1568476800@www.uelifisch.ch
SUMMARY:Wahlkampf auf der Strasse: "energy tour" in Eschlikon und Aadorf
DESCRIPTION:«Projekte mit Vorbildcharakter und umfassende Informationen bewegen zum Umdenken und Handeln»\, lautet die Devise der energy tour Organisatoren. Das ehrenwerte Ziel der Initianten findet ständig grössere Resonanz. Immer mehr Menschen ist es klar\, dass unsere Gesellschaft zukunftsweisende Lösungen braucht. \nAn insgesamt 7 Standorten im Thurgau ist die energy tour präsent. Wir von der glp werden uns in Eschlikon und Aadorf informieren und den Kontakt zu den Besuchern suchen.
URL:https://www.uelifisch.ch/agende/wahlkampf-auf-der-strasse-energy-tour-in-eschlikon-und-aadorf/
LOCATION:Eschlikon und Aadorf
END:VEVENT
END:VCALENDAR