BEGIN:VCALENDAR
VERSION:2.0
PRODID:-//Ueli Fisch - ECPv5.6.0//NONSGML v1.0//EN
CALSCALE:GREGORIAN
METHOD:PUBLISH
X-WR-CALNAME:Ueli Fisch
X-ORIGINAL-URL:https://www.uelifisch.ch
X-WR-CALDESC:Veranstaltungen für Ueli Fisch
BEGIN:VTIMEZONE
TZID:Europe/Zurich
BEGIN:DAYLIGHT
TZOFFSETFROM:+0100
TZOFFSETTO:+0200
TZNAME:CEST
DTSTART:20190331T010000
END:DAYLIGHT
BEGIN:STANDARD
TZOFFSETFROM:+0200
TZOFFSETTO:+0100
TZNAME:CET
DTSTART:20191027T010000
END:STANDARD
END:VTIMEZONE
BEGIN:VEVENT
DTSTART;TZID=Europe/Zurich:20191020T160000
DTEND;TZID=Europe/Zurich:20191020T190000
DTSTAMP:20231114T015704
CREATED:20191014T070058Z
LAST-MODIFIED:20191014T070058Z
UID:13807-1571587200-1571598000@www.uelifisch.ch
SUMMARY:Wahlfeier im Dreiegg Frauenfeld
DESCRIPTION:Natürlich hoffen wir\, dass wir etwas zu feiern haben. Aber wir feiern sowieso. Und zwar im Restaurant Dreiegg in Fraufenfeld. Alle Helferinnen und Helfer\, alle glp-ler und Sympathisanten\, alle Komiteemitglieder und Unterstützer sind ganz herzlich eingeladen. \nWir treffen uns ab 16.00 Uhr\, bis dann sollten alle Resultate klar sein.
URL:https://www.uelifisch.ch/agende/wahlfeier-im-dreiegg-frauenfeld/
LOCATION:Restaurant Dreiegg Frauenfeld\, Metzgerstrasse 4\, Frauenfeld\, 8500\, Schweiz
END:VEVENT
END:VCALENDAR