BEGIN:VCALENDAR
VERSION:2.0
PRODID:-//Ueli Fisch - ECPv5.6.0//NONSGML v1.0//EN
CALSCALE:GREGORIAN
METHOD:PUBLISH
X-WR-CALNAME:Ueli Fisch
X-ORIGINAL-URL:https://www.uelifisch.ch
X-WR-CALDESC:Veranstaltungen für Ueli Fisch
BEGIN:VTIMEZONE
TZID:Europe/Paris
BEGIN:DAYLIGHT
TZOFFSETFROM:+0100
TZOFFSETTO:+0200
TZNAME:CEST
DTSTART:20150329T010000
END:DAYLIGHT
BEGIN:STANDARD
TZOFFSETFROM:+0200
TZOFFSETTO:+0100
TZNAME:CET
DTSTART:20151025T010000
END:STANDARD
END:VTIMEZONE
BEGIN:VEVENT
DTSTART;TZID=Europe/Paris:20151018T170000
DTEND;TZID=Europe/Paris:20151018T220000
DTSTAMP:20231113T203639
CREATED:20151016T114614Z
LAST-MODIFIED:20151016T114614Z
UID:11716-1445187600-1445205600@www.uelifisch.ch
SUMMARY:Wahlfeier Grünliberale Thurgau
DESCRIPTION:Am Sonntag 18.10.2015 ab 17.00 Uhr im Restaurant Linden in Tägerwilen lassen wir den Wahlkampf Revue passieren und analysieren zusammen im gemütlichen Rahmen die Wahlresultate. Wir ziehen auch die Gewinnerin oder den Gewinner des glp-Glücksradspieles.
URL:https://www.uelifisch.ch/agende/wahlfeier-gruenliberale-thurgau/
LOCATION:Restaurant Linde\, Hauptstrasse 96\, Tägerwilen \, Schweiz
END:VEVENT
END:VCALENDAR