BEGIN:VCALENDAR
VERSION:2.0
PRODID:-//Ueli Fisch - ECPv5.6.0//NONSGML v1.0//EN
CALSCALE:GREGORIAN
METHOD:PUBLISH
X-WR-CALNAME:Ueli Fisch
X-ORIGINAL-URL:https://www.uelifisch.ch
X-WR-CALDESC:Veranstaltungen für Ueli Fisch
BEGIN:VTIMEZONE
TZID:Europe/Zurich
BEGIN:DAYLIGHT
TZOFFSETFROM:+0100
TZOFFSETTO:+0200
TZNAME:CEST
DTSTART:20200329T010000
END:DAYLIGHT
BEGIN:STANDARD
TZOFFSETFROM:+0200
TZOFFSETTO:+0100
TZNAME:CET
DTSTART:20201025T010000
END:STANDARD
END:VTIMEZONE
BEGIN:VEVENT
DTSTART;TZID=Europe/Zurich:20200315T170000
DTEND;TZID=Europe/Zurich:20200315T190000
DTSTAMP:20231113T225008
CREATED:20200225T161821Z
LAST-MODIFIED:20200314T105914Z
UID:14102-1584291600-1584298800@www.uelifisch.ch
SUMMARY:Wahlfeier glp Bezirk Weinfelden/Komitee Ueli Fisch im Giusi's Bistro Weinfelden
DESCRIPTION:Leider mussten wir vom Präsidium der glp Thurgau aus die gemeinsame Wahlfeier aller Bezirke wegen der aktuellen Lage mit dem Corona-Virus absagen. Wir treffen uns nun im kleinen Rahmen von der glp des Bezirks Weinfelden zu einem Wahlhöck um 17.00 Uhr in Giusi’s Bistro in Weinfelden. \nAuch Mitglieder des Komitees „Ueli Fisch in die Regierung“ sind nach Voranmeldung eingeladen. Die Teilnehmerzahl ist auf maximal 30 Personen beschränkt\, damit wir den Auflagen von Giusi’s Bistro gerecht werden. Wer gerne kommen möchte\, sollte sich bei mir anmelden (ueli.fisch@grunliberale.ch oder 079 209 52 83). \n 
URL:https://www.uelifisch.ch/agende/wahlfeier-der-glp-thurgau-im-giusis-bistro-weinfelden/
LOCATION:Giusi’s Bistro Weinfelden\, Frauenfelderstrasse 3\, Weinfelden\, 8570
END:VEVENT
END:VCALENDAR