BEGIN:VCALENDAR
VERSION:2.0
PRODID:-//Ueli Fisch - ECPv5.6.0//NONSGML v1.0//EN
CALSCALE:GREGORIAN
METHOD:PUBLISH
X-WR-CALNAME:Ueli Fisch
X-ORIGINAL-URL:https://www.uelifisch.ch
X-WR-CALDESC:Veranstaltungen für Ueli Fisch
BEGIN:VTIMEZONE
TZID:Europe/Paris
BEGIN:DAYLIGHT
TZOFFSETFROM:+0100
TZOFFSETTO:+0200
TZNAME:CEST
DTSTART:20160327T010000
END:DAYLIGHT
BEGIN:STANDARD
TZOFFSETFROM:+0200
TZOFFSETTO:+0100
TZNAME:CET
DTSTART:20161030T010000
END:STANDARD
END:VTIMEZONE
BEGIN:VEVENT
DTSTART;TZID=Europe/Paris:20160228T120000
DTEND;TZID=Europe/Paris:20160228T170000
DTSTAMP:20231114T045722
CREATED:20160210T141022Z
LAST-MODIFIED:20160221T211258Z
UID:12484-1456660800-1456678800@www.uelifisch.ch
SUMMARY:Wahl- und Medienzentrum: die Entscheidung
DESCRIPTION:Am Sonntag\, 28. Februar 2016\, findet die Gesamterneuerungswahl des Regierungsrates des Kantons Thurgau statt. Für die fünf Sitze bewerben sich drei Kandidatinnen und drei Kandidaten. Wir bieten Ihnen die Möglichkeit\, die Entwicklung der Resultate in einem Wahl- und Medienzentrum zu verfolgen:\nDatum: Sonntag\, 28. Februar 2016\nZeit: ab 12 Uhr bis zum Vorliegen der Schlussresultate\nOrt: Sitzungszimmer Bodensee\, Regierungsgebäude\, Frauenfeld\nDas Wahl- und Medienzentrum steht den Kandidatinnen und Kandidaten sowie ihren Familien- und Wahlstabsangehörigen\, Parteivertreterinnen und -vertretern sowie selbstverständlich den Medienschaffenden offen. Die Entwicklung der Resultate präsentieren wir Ihnen via Beamer aus dem Internet. Ausserdem stellen wir Ihnen einen Ausdruck der Schlussresultate zur Verfügung und sorgen für Ihr leibliches Wohl.
URL:https://www.uelifisch.ch/agende/wahl-und-medienzentrum/
LOCATION:Wahl- und Medienzentrum\, Neubau Kanti Frauenfeld\, Speicherstrasse 10\, Frauenfeld\, 8500\, Schweiz
END:VEVENT
END:VCALENDAR