BEGIN:VCALENDAR
VERSION:2.0
PRODID:-//Ueli Fisch - ECPv5.6.0//NONSGML v1.0//EN
CALSCALE:GREGORIAN
METHOD:PUBLISH
X-WR-CALNAME:Ueli Fisch
X-ORIGINAL-URL:https://www.uelifisch.ch
X-WR-CALDESC:Veranstaltungen für Ueli Fisch
BEGIN:VTIMEZONE
TZID:Europe/Paris
BEGIN:DAYLIGHT
TZOFFSETFROM:+0100
TZOFFSETTO:+0200
TZNAME:CEST
DTSTART:20160327T010000
END:DAYLIGHT
BEGIN:STANDARD
TZOFFSETFROM:+0200
TZOFFSETTO:+0100
TZNAME:CET
DTSTART:20161030T010000
END:STANDARD
END:VTIMEZONE
BEGIN:VEVENT
DTSTART;TZID=Europe/Paris:20160127T193000
DTEND;TZID=Europe/Paris:20160127T210000
DTSTAMP:20231114T044203
CREATED:20151122T154838Z
LAST-MODIFIED:20151122T154838Z
UID:12087-1453923000-1453928400@www.uelifisch.ch
SUMMARY:Vorstellung bei EVP Mitgliederversammlung
DESCRIPTION:Ich darf mich den Mitgliedern der EVP Thurgau vorstellen.
URL:https://www.uelifisch.ch/agende/vorstellung-bei-evp-mitgliederversammlung/
LOCATION:Weinfelden\, Restaurant Eisenbahn
END:VEVENT
END:VCALENDAR