BEGIN:VCALENDAR
VERSION:2.0
PRODID:-//Ueli Fisch - ECPv5.6.0//NONSGML v1.0//EN
CALSCALE:GREGORIAN
METHOD:PUBLISH
X-WR-CALNAME:Ueli Fisch
X-ORIGINAL-URL:https://www.uelifisch.ch
X-WR-CALDESC:Veranstaltungen für Ueli Fisch
BEGIN:VTIMEZONE
TZID:Europe/Paris
BEGIN:DAYLIGHT
TZOFFSETFROM:+0100
TZOFFSETTO:+0200
TZNAME:CEST
DTSTART:20160327T010000
END:DAYLIGHT
BEGIN:STANDARD
TZOFFSETFROM:+0200
TZOFFSETTO:+0100
TZNAME:CET
DTSTART:20161030T010000
END:STANDARD
END:VTIMEZONE
BEGIN:VEVENT
DTSTART;TZID=Europe/Paris:20160127T200000
DTEND;TZID=Europe/Paris:20160127T210000
DTSTAMP:20231114T051759
CREATED:20151203T070816Z
LAST-MODIFIED:20151203T070816Z
UID:12227-1453924800-1453928400@www.uelifisch.ch
SUMMARY:Vorstellung bei CVP Delegiertenversammlung
DESCRIPTION:Ich darf mich den Delegierten der CVP Thurgau vorstellen
URL:https://www.uelifisch.ch/agende/vorstellung-bei-cvp-delegiertenversammlung/
LOCATION:offen\, Weinfelden
END:VEVENT
END:VCALENDAR