BEGIN:VCALENDAR
VERSION:2.0
PRODID:-//Ueli Fisch - ECPv5.6.0//NONSGML v1.0//EN
CALSCALE:GREGORIAN
METHOD:PUBLISH
X-WR-CALNAME:Ueli Fisch
X-ORIGINAL-URL:https://www.uelifisch.ch
X-WR-CALDESC:Veranstaltungen für Ueli Fisch
BEGIN:VTIMEZONE
TZID:Europe/Zurich
BEGIN:DAYLIGHT
TZOFFSETFROM:+0100
TZOFFSETTO:+0200
TZNAME:CEST
DTSTART:20190331T010000
END:DAYLIGHT
BEGIN:STANDARD
TZOFFSETFROM:+0200
TZOFFSETTO:+0100
TZNAME:CET
DTSTART:20191027T010000
END:STANDARD
END:VTIMEZONE
BEGIN:VEVENT
DTSTART;TZID=Europe/Zurich:20190929T130000
DTEND;TZID=Europe/Zurich:20190929T190000
DTSTAMP:20231114T022423
CREATED:20190818T085659Z
LAST-MODIFIED:20190818T085659Z
UID:13483-1569762000-1569783600@www.uelifisch.ch
SUMMARY:Ueli Fisch am Wega Politcorner glp-Stand
DESCRIPTION:Ich bin am glp-Stand anwesend
URL:https://www.uelifisch.ch/agende/ueli-fisch-am-wega-politcorner-glp-stand-4/
LOCATION:Wega Weinfelden
END:VEVENT
END:VCALENDAR