BEGIN:VCALENDAR
VERSION:2.0
PRODID:-//Ueli Fisch - ECPv5.6.0//NONSGML v1.0//EN
CALSCALE:GREGORIAN
METHOD:PUBLISH
X-WR-CALNAME:Ueli Fisch
X-ORIGINAL-URL:https://www.uelifisch.ch
X-WR-CALDESC:Veranstaltungen für Ueli Fisch
BEGIN:VTIMEZONE
TZID:Europe/Zurich
BEGIN:DAYLIGHT
TZOFFSETFROM:+0100
TZOFFSETTO:+0200
TZNAME:CEST
DTSTART:20190331T010000
END:DAYLIGHT
BEGIN:STANDARD
TZOFFSETFROM:+0200
TZOFFSETTO:+0100
TZNAME:CET
DTSTART:20191027T010000
END:STANDARD
END:VTIMEZONE
BEGIN:VEVENT
DTSTART;TZID=Europe/Zurich:20190930T191500
DTEND;TZID=Europe/Zurich:20190930T213000
DTSTAMP:20231114T023701
CREATED:20190718T155820Z
LAST-MODIFIED:20190917T071616Z
UID:13420-1569870900-1569879000@www.uelifisch.ch
SUMMARY:Tele Top Ständerats-Podium - Eisenwerk Frauenfeld
DESCRIPTION:Am Montag 30. September (Wega-Montag) organisiert Tele Top ein Podium mit allen StänderatskandidatInnen. Das Podium findet im Eisenwerk in Frauenfeld statt und startet um 19.15 Uhr. Es wird live auf Tele Top übertragen
URL:https://www.uelifisch.ch/agende/tele-top-staenderatspodium/
LOCATION:Eisenwerk Frauenfeld
ATTACH;FMTTYPE=image/jpeg:https://www.uelifisch.ch/wp-content/uploads/2019/09/TeleTop-Podium.jpg
END:VEVENT
END:VCALENDAR