BEGIN:VCALENDAR
VERSION:2.0
PRODID:-//Ueli Fisch - ECPv5.6.0//NONSGML v1.0//EN
CALSCALE:GREGORIAN
METHOD:PUBLISH
X-WR-CALNAME:Ueli Fisch
X-ORIGINAL-URL:https://www.uelifisch.ch
X-WR-CALDESC:Veranstaltungen für Ueli Fisch
BEGIN:VTIMEZONE
TZID:Europe/Paris
BEGIN:DAYLIGHT
TZOFFSETFROM:+0100
TZOFFSETTO:+0200
TZNAME:CEST
DTSTART:20160327T010000
END:DAYLIGHT
BEGIN:STANDARD
TZOFFSETFROM:+0200
TZOFFSETTO:+0100
TZNAME:CET
DTSTART:20161030T010000
END:STANDARD
END:VTIMEZONE
BEGIN:VEVENT
DTSTART;TZID=Europe/Paris:20160212T133000
DTEND;TZID=Europe/Paris:20160212T150000
DTSTAMP:20231114T051154
CREATED:20160131T180034Z
LAST-MODIFIED:20160131T180034Z
UID:12450-1455283800-1455289200@www.uelifisch.ch
SUMMARY:Tele Ostschweiz - Streitgespräch Schönholzer/Fisch
DESCRIPTION:Tele Ostschweiz zeichnet ein Streitgespräch zu den Regierungsratswahlen zwischen Walter Schönholzer und mir auf. Die Sendedaten weiss ich noch nicht\, werde diese aber nachliefern.
URL:https://www.uelifisch.ch/agende/tele-ostschweiz-streitgespraech-schoenholzerfisch/
LOCATION:TVO\, St. Gallen
END:VEVENT
END:VCALENDAR