BEGIN:VCALENDAR
VERSION:2.0
PRODID:-//Ueli Fisch - ECPv5.6.0//NONSGML v1.0//EN
CALSCALE:GREGORIAN
METHOD:PUBLISH
X-WR-CALNAME:Ueli Fisch
X-ORIGINAL-URL:https://www.uelifisch.ch
X-WR-CALDESC:Veranstaltungen für Ueli Fisch
BEGIN:VTIMEZONE
TZID:Europe/Zurich
BEGIN:DAYLIGHT
TZOFFSETFROM:+0100
TZOFFSETTO:+0200
TZNAME:CEST
DTSTART:20190331T010000
END:DAYLIGHT
BEGIN:STANDARD
TZOFFSETFROM:+0200
TZOFFSETTO:+0100
TZNAME:CET
DTSTART:20191027T010000
END:STANDARD
END:VTIMEZONE
BEGIN:VEVENT
DTSTART;TZID=Europe/Zurich:20190921T090000
DTEND;TZID=Europe/Zurich:20190921T100000
DTSTAMP:20231114T023933
CREATED:20190712T072252Z
LAST-MODIFIED:20190816T092541Z
UID:13350-1569056400-1569060000@www.uelifisch.ch
SUMMARY:Tele Diessenhofen Ständerats-Podium
DESCRIPTION:Tele Diessenhofen zeichnet am Samstag 21.9.2019 ein Podium mit allen Ständeratskandidatinnen und -kandidaten auf. Moderiert wird das Podium von David Angst (Chefredaktor Thurgauer Zeitung). \nDie Sendung wird ab dem 23. September zweimal pro Woche wiederholt.
URL:https://www.uelifisch.ch/agende/tele-diessenhofen-staenderatspodium/
END:VEVENT
END:VCALENDAR