BEGIN:VCALENDAR
VERSION:2.0
PRODID:-//Ueli Fisch - ECPv5.6.0//NONSGML v1.0//EN
CALSCALE:GREGORIAN
METHOD:PUBLISH
X-WR-CALNAME:Ueli Fisch
X-ORIGINAL-URL:https://www.uelifisch.ch
X-WR-CALDESC:Veranstaltungen für Ueli Fisch
BEGIN:VTIMEZONE
TZID:Europe/Paris
BEGIN:DAYLIGHT
TZOFFSETFROM:+0100
TZOFFSETTO:+0200
TZNAME:CEST
DTSTART:20160327T010000
END:DAYLIGHT
BEGIN:STANDARD
TZOFFSETFROM:+0200
TZOFFSETTO:+0100
TZNAME:CET
DTSTART:20161030T010000
END:STANDARD
END:VTIMEZONE
BEGIN:VEVENT
DTSTART;TZID=Europe/Paris:20160208T202500
DTEND;TZID=Europe/Paris:20160212T232500
DTSTAMP:20231114T061447
CREATED:20160208T165224Z
LAST-MODIFIED:20160208T165224Z
UID:12469-1454963100-1455319500@www.uelifisch.ch
SUMMARY:Tele Diessenhofen - Podium nochmals anschauen
DESCRIPTION:Auf Tele D wird das Podium mit allen Regierungsmitgliedern und den neuen Kandidaten täglich auch in der Woche vom 8.2.2016 ausgestrahlt: \nMontag 8.2.2016 um 20:25\nDienstag 9.2.2016 um 19:42 und 23:52\nMittwoch 10.2.2016 um 21:13\nDonnerstag 11.2.2016 um 18:53 und 22:53\nFreitag 12.2.2016 um 23:25
URL:https://www.uelifisch.ch/agende/tele-diessenhofen-podium-nochmals-anschauen/
LOCATION:Tele D\, Fernsehstudio\, Diessenhofen
END:VEVENT
END:VCALENDAR