BEGIN:VCALENDAR
VERSION:2.0
PRODID:-//Ueli Fisch - ECPv5.6.0//NONSGML v1.0//EN
CALSCALE:GREGORIAN
METHOD:PUBLISH
X-WR-CALNAME:Ueli Fisch
X-ORIGINAL-URL:https://www.uelifisch.ch
X-WR-CALDESC:Veranstaltungen für Ueli Fisch
BEGIN:VTIMEZONE
TZID:Europe/Paris
BEGIN:DAYLIGHT
TZOFFSETFROM:+0100
TZOFFSETTO:+0200
TZNAME:CEST
DTSTART:20160327T010000
END:DAYLIGHT
BEGIN:STANDARD
TZOFFSETFROM:+0200
TZOFFSETTO:+0100
TZNAME:CET
DTSTART:20161030T010000
END:STANDARD
END:VTIMEZONE
BEGIN:VEVENT
DTSTART;TZID=Europe/Paris:20160123T093000
DTEND;TZID=Europe/Paris:20160123T120000
DTSTAMP:20231114T032050
CREATED:20151210T125353Z
LAST-MODIFIED:20151210T125353Z
UID:12247-1453541400-1453550400@www.uelifisch.ch
SUMMARY:Tele D - Aufzeichnung Diskussionssendung
DESCRIPTION:Tele D produziert eine Diskussionssendung zu den Regierungsratswahlen. Diese wird moderiert von Hansjörg Enz. Am Samstag 23.1.2015 wird diese Sendung aufgezeichnet. Die Infos zu den Sendedaten folgen später.
URL:https://www.uelifisch.ch/agende/tele-d-aufzeichnung-diskussionssendung/
LOCATION:Tele D\, Studio \, Diessenhofen\, Schweiz
END:VEVENT
END:VCALENDAR