BEGIN:VCALENDAR
VERSION:2.0
PRODID:-//Ueli Fisch - ECPv5.6.0//NONSGML v1.0//EN
CALSCALE:GREGORIAN
METHOD:PUBLISH
X-WR-CALNAME:Ueli Fisch
X-ORIGINAL-URL:https://www.uelifisch.ch
X-WR-CALDESC:Veranstaltungen für Ueli Fisch
BEGIN:VTIMEZONE
TZID:Europe/Paris
BEGIN:DAYLIGHT
TZOFFSETFROM:+0100
TZOFFSETTO:+0200
TZNAME:CEST
DTSTART:20150329T010000
END:DAYLIGHT
BEGIN:STANDARD
TZOFFSETFROM:+0200
TZOFFSETTO:+0100
TZNAME:CET
DTSTART:20151025T010000
END:STANDARD
END:VTIMEZONE
BEGIN:VEVENT
DTSTART;TZID=Europe/Paris:20151126T200000
DTEND;TZID=Europe/Paris:20151126T220000
DTSTAMP:20260420T100215
CREATED:20151122T150356Z
LAST-MODIFIED:20151122T155014Z
UID:12062-1448568000-1448575200@www.uelifisch.ch
SUMMARY:Vorstellung bei SVP Delegiertenversammlung
DESCRIPTION:Vorstellung der Regierungsratskandidaten
URL:https://www.uelifisch.ch/agende/svp-delegiertenversammlung/
LOCATION:Salenstein\, Mehrzweckhalle
END:VEVENT
END:VCALENDAR