BEGIN:VCALENDAR
VERSION:2.0
PRODID:-//Ueli Fisch - ECPv5.6.0//NONSGML v1.0//EN
CALSCALE:GREGORIAN
METHOD:PUBLISH
X-WR-CALNAME:Ueli Fisch
X-ORIGINAL-URL:https://www.uelifisch.ch
X-WR-CALDESC:Veranstaltungen für Ueli Fisch
BEGIN:VTIMEZONE
TZID:Europe/Paris
BEGIN:DAYLIGHT
TZOFFSETFROM:+0100
TZOFFSETTO:+0200
TZNAME:CEST
DTSTART:20160327T010000
END:DAYLIGHT
BEGIN:STANDARD
TZOFFSETFROM:+0200
TZOFFSETTO:+0100
TZNAME:CET
DTSTART:20161030T010000
END:STANDARD
END:VTIMEZONE
BEGIN:VEVENT
DTSTART;TZID=Europe/Paris:20160212T182500
DTEND;TZID=Europe/Paris:20160213T150000
DTSTAMP:20260420T100137
CREATED:20160208T165555Z
LAST-MODIFIED:20160208T165659Z
UID:12472-1455301500-1455375600@www.uelifisch.ch
SUMMARY:Streitgespräch auf TVO anschauen
DESCRIPTION:TVO strahlt das Streitgespräch zwischen Walter Schönholzer und mir am Freitag 12. Februar um 18:25 Uhr aus. Es wird dann stündlich wiederholt bis Samstag 13.2.2016 um 15.00 Uhr.
URL:https://www.uelifisch.ch/agende/streitgespraech-auf-tvo/
LOCATION:TVO\, St. Gallen
END:VEVENT
END:VCALENDAR