BEGIN:VCALENDAR
VERSION:2.0
PRODID:-//Ueli Fisch - ECPv5.6.0//NONSGML v1.0//EN
CALSCALE:GREGORIAN
METHOD:PUBLISH
X-WR-CALNAME:Ueli Fisch
X-ORIGINAL-URL:https://www.uelifisch.ch
X-WR-CALDESC:Veranstaltungen für Ueli Fisch
BEGIN:VTIMEZONE
TZID:Europe/Zurich
BEGIN:DAYLIGHT
TZOFFSETFROM:+0100
TZOFFSETTO:+0200
TZNAME:CEST
DTSTART:20200329T010000
END:DAYLIGHT
BEGIN:STANDARD
TZOFFSETFROM:+0200
TZOFFSETTO:+0100
TZNAME:CET
DTSTART:20201025T010000
END:STANDARD
END:VTIMEZONE
BEGIN:VEVENT
DTSTART;TZID=Europe/Zurich:20200229T130000
DTEND;TZID=Europe/Zurich:20200229T150000
DTSTAMP:20231114T010354
CREATED:20200225T161001Z
LAST-MODIFIED:20200225T161001Z
UID:14095-1582981200-1582988400@www.uelifisch.ch
SUMMARY:Strassenaktion der glp in Weinfelden
DESCRIPTION:Das Wahlkampf-Team der glp Bezirk Weinfelden ist am Samstagnachmittag von ca. 13.00 – 15.00 Uhr in Weinfelden vor dem Migros und auf dem Marktplatz aktiv.
URL:https://www.uelifisch.ch/agende/strassenaktion-der-glp-in-weinfelden-2/
LOCATION:Weinfelden
END:VEVENT
END:VCALENDAR