BEGIN:VCALENDAR
VERSION:2.0
PRODID:-//Ueli Fisch - ECPv5.6.0//NONSGML v1.0//EN
CALSCALE:GREGORIAN
METHOD:PUBLISH
X-WR-CALNAME:Ueli Fisch
X-ORIGINAL-URL:https://www.uelifisch.ch
X-WR-CALDESC:Veranstaltungen für Ueli Fisch
BEGIN:VTIMEZONE
TZID:Europe/Zurich
BEGIN:DAYLIGHT
TZOFFSETFROM:+0100
TZOFFSETTO:+0200
TZNAME:CEST
DTSTART:20200329T010000
END:DAYLIGHT
BEGIN:STANDARD
TZOFFSETFROM:+0200
TZOFFSETTO:+0100
TZNAME:CET
DTSTART:20201025T010000
END:STANDARD
END:VTIMEZONE
BEGIN:VEVENT
DTSTART;TZID=Europe/Zurich:20200229T090000
DTEND;TZID=Europe/Zurich:20200229T120000
DTSTAMP:20231114T011649
CREATED:20200128T205611Z
LAST-MODIFIED:20200128T205611Z
UID:13966-1582966800-1582977600@www.uelifisch.ch
SUMMARY:Strassenaktion der glp in Bischofszell
DESCRIPTION:Die Kandidatinnen und Kandidaten gehen in Bischofszell auf dem Grubplatz auf die Strasse und suchen das Gespräch mit Thurgauerinnen und Thurgauern.
URL:https://www.uelifisch.ch/agende/strassenaktion-der-glp-in-bischofszell/
LOCATION:Bischofszell Grubplatz
END:VEVENT
END:VCALENDAR