BEGIN:VCALENDAR
VERSION:2.0
PRODID:-//Ueli Fisch - ECPv5.6.0//NONSGML v1.0//EN
CALSCALE:GREGORIAN
METHOD:PUBLISH
X-WR-CALNAME:Ueli Fisch
X-ORIGINAL-URL:https://www.uelifisch.ch
X-WR-CALDESC:Veranstaltungen für Ueli Fisch
BEGIN:VTIMEZONE
TZID:Europe/Paris
BEGIN:DAYLIGHT
TZOFFSETFROM:+0100
TZOFFSETTO:+0200
TZNAME:CEST
DTSTART:20160327T010000
END:DAYLIGHT
BEGIN:STANDARD
TZOFFSETFROM:+0200
TZOFFSETTO:+0100
TZNAME:CET
DTSTART:20161030T010000
END:STANDARD
END:VTIMEZONE
BEGIN:VEVENT
DTSTART;TZID=Europe/Paris:20160220T090000
DTEND;TZID=Europe/Paris:20160220T143000
DTSTAMP:20231114T050741
CREATED:20160131T175320Z
LAST-MODIFIED:20160215T173648Z
UID:12449-1455958800-1455978600@www.uelifisch.ch
SUMMARY:Standaktion Neukirch-Egnach - Romanshorn - Arbon - Amriswil
DESCRIPTION:Die glp des Bezirks Arbon organisiert nochmals eine Standaktion: \n09:00 – 10.00 Uhr Neukirch bei der Raiffeisen/Volg\n10:30 – 11.30 Uhr Romanshorn an der Alleestrasse in der Nähe vom Coop\n12:00 – 13.00 Uhr Hafendamm/Hafenareal in Arbon\n13:30 – 14.30 Uhr vis à vis vom Coop in Amriswil
URL:https://www.uelifisch.ch/agende/standaktion-bezirk-arbon/
LOCATION:Bezirk Arbon
END:VEVENT
END:VCALENDAR