BEGIN:VCALENDAR
VERSION:2.0
PRODID:-//Ueli Fisch - ECPv5.6.0//NONSGML v1.0//EN
CALSCALE:GREGORIAN
METHOD:PUBLISH
X-WR-CALNAME:Ueli Fisch
X-ORIGINAL-URL:https://www.uelifisch.ch
X-WR-CALDESC:Veranstaltungen für Ueli Fisch
BEGIN:VTIMEZONE
TZID:Europe/Zurich
BEGIN:DAYLIGHT
TZOFFSETFROM:+0100
TZOFFSETTO:+0200
TZNAME:CEST
DTSTART:20190331T010000
END:DAYLIGHT
BEGIN:STANDARD
TZOFFSETFROM:+0200
TZOFFSETTO:+0100
TZNAME:CET
DTSTART:20191027T010000
END:STANDARD
END:VTIMEZONE
BEGIN:VEVENT
DTSTART;TZID=Europe/Zurich:20190811T110000
DTEND;TZID=Europe/Zurich:20190811T140000
DTSTAMP:20231114T033409
CREATED:20190709T204533Z
LAST-MODIFIED:20190709T204533Z
UID:13331-1565521200-1565532000@www.uelifisch.ch
SUMMARY:Ständerats-Podium der CVP Bichelsee-Balterswil
DESCRIPTION:Podium Ständerat\, Leitung Armin Menzi \n\nStänderätin Brigitte Häberli\, CVP\nRegierungspräsident Jakob Stark\, SVP\nKantonsrätin Nina Schläfli\nSP Kantonsrat Kurt Egger\, GP\nKantonsrat Ueli Fisch\, GLP\n\nanschliessend Nationalrats-Podium (Leitung Mario Testa)\nmit Nationalrat Hansjörg Brunner\, FDP | Nationalrat Christian Lohr\, CVP | Kantonsrätin Sabina Peter\, CVP | Kantonsrat Josef Gemperle\, CVP | Gemeinderat Stefan Mühlemann\, SVP
URL:https://www.uelifisch.ch/agende/staenderats-podium-der-cvp-bichelsee-balterswil/
LOCATION:Bürgerhütte Balterswil
END:VEVENT
END:VCALENDAR