BEGIN:VCALENDAR
VERSION:2.0
PRODID:-//Ueli Fisch - ECPv5.6.0//NONSGML v1.0//EN
CALSCALE:GREGORIAN
METHOD:PUBLISH
X-WR-CALNAME:Ueli Fisch
X-ORIGINAL-URL:https://www.uelifisch.ch
X-WR-CALDESC:Veranstaltungen für Ueli Fisch
BEGIN:VTIMEZONE
TZID:Europe/Zurich
BEGIN:DAYLIGHT
TZOFFSETFROM:+0100
TZOFFSETTO:+0200
TZNAME:CEST
DTSTART:20220327T010000
END:DAYLIGHT
BEGIN:STANDARD
TZOFFSETFROM:+0200
TZOFFSETTO:+0100
TZNAME:CET
DTSTART:20221030T010000
END:STANDARD
END:VTIMEZONE
BEGIN:VEVENT
DTSTART;TZID=Europe/Zurich:20220913T190000
DTEND;TZID=Europe/Zurich:20220913T210000
DTSTAMP:20231113T223418
CREATED:20220828T191913Z
LAST-MODIFIED:20220828T192026Z
UID:14486-1663095600-1663102800@www.uelifisch.ch
SUMMARY:SP/Grüne/GLP Weinfelden: Hearing mit den Kandidaten fürs Stadtpräsidium
DESCRIPTION:Die Kandidaten für Stadtpräsidium stellen sich den Mitgliedern der SP\, Grüne und GLP Weinfelden vor
URL:https://www.uelifisch.ch/agende/sp-gruene-glp-weinfelden-hearing-mit-den-kandidaten-stadtpraesidium/
LOCATION:Weinfelden
END:VEVENT
END:VCALENDAR