BEGIN:VCALENDAR
VERSION:2.0
PRODID:-//Ueli Fisch - ECPv5.6.0//NONSGML v1.0//EN
CALSCALE:GREGORIAN
METHOD:PUBLISH
X-WR-CALNAME:Ueli Fisch
X-ORIGINAL-URL:https://www.uelifisch.ch
X-WR-CALDESC:Veranstaltungen für Ueli Fisch
BEGIN:VTIMEZONE
TZID:Europe/Zurich
BEGIN:DAYLIGHT
TZOFFSETFROM:+0100
TZOFFSETTO:+0200
TZNAME:CEST
DTSTART:20230326T010000
END:DAYLIGHT
BEGIN:STANDARD
TZOFFSETFROM:+0200
TZOFFSETTO:+0100
TZNAME:CET
DTSTART:20231029T010000
END:STANDARD
END:VTIMEZONE
BEGIN:VEVENT
DTSTART;TZID=Europe/Zurich:20230708T170000
DTEND;TZID=Europe/Zurich:20230708T190000
DTSTAMP:20231113T174601
CREATED:20230625T123714Z
LAST-MODIFIED:20230625T123714Z
UID:14822-1688835600-1688842800@www.uelifisch.ch
SUMMARY:See Pride Festival Podiumsdiskussion Kreuzlingen
DESCRIPTION:Im Rahmen des See Pride Festivals findet ein politisches Podium zum Them „Antiqueere Gewalt – (k)ein Thema?“ statt. Teilnehmende sind nebst mir: Nina Schläfli (SP)\, Judith Ricklin (SVP)\, Cornelia Hauser (Grüne) und Nick Bischof (Die Mitte). Ich freue mich auf ein spannendes Podium.
URL:https://www.uelifisch.ch/agende/see-pride-festival-podiumsdiskussion-kreuzlingen/
LOCATION:See Pride Festival\, Bodensee-Arena\, Kreuzlingen\, 8280\, Schweiz
END:VEVENT
END:VCALENDAR