BEGIN:VCALENDAR
VERSION:2.0
PRODID:-//Ueli Fisch - ECPv5.6.0//NONSGML v1.0//EN
CALSCALE:GREGORIAN
METHOD:PUBLISH
X-WR-CALNAME:Ueli Fisch
X-ORIGINAL-URL:https://www.uelifisch.ch
X-WR-CALDESC:Veranstaltungen für Ueli Fisch
BEGIN:VTIMEZONE
TZID:Europe/Zurich
BEGIN:DAYLIGHT
TZOFFSETFROM:+0100
TZOFFSETTO:+0200
TZNAME:CEST
DTSTART:20200329T010000
END:DAYLIGHT
BEGIN:STANDARD
TZOFFSETFROM:+0200
TZOFFSETTO:+0100
TZNAME:CET
DTSTART:20201025T010000
END:STANDARD
END:VTIMEZONE
BEGIN:VEVENT
DTSTART;TZID=Europe/Zurich:20200212T183000
DTEND;TZID=Europe/Zurich:20200212T190000
DTSTAMP:20231114T020057
CREATED:20200128T202939Z
LAST-MODIFIED:20200205T162038Z
UID:13948-1581532200-1581534000@www.uelifisch.ch
SUMMARY:TVO "Zur Sache": Regierungsrats-Podium
DESCRIPTION:TVO zeigt ein Podium mit den drei neu Kandidierenden in der Sendung „Zur Sache“ um 18.30 Uhr. \nModeriert wird der Talk von Stefan Schmid (Redaktionsleiter Tagblatt).
URL:https://www.uelifisch.ch/agende/regierungsrats-podium-tvo/
LOCATION:TVO\, St. Gallen
ATTACH;FMTTYPE=image/jpeg:https://www.uelifisch.ch/wp-content/uploads/2020/01/logo-tvo-e1580890645659.jpg
END:VEVENT
END:VCALENDAR