BEGIN:VCALENDAR
VERSION:2.0
PRODID:-//Ueli Fisch - ECPv5.6.0//NONSGML v1.0//EN
CALSCALE:GREGORIAN
METHOD:PUBLISH
X-WR-CALNAME:Ueli Fisch
X-ORIGINAL-URL:https://www.uelifisch.ch
X-WR-CALDESC:Veranstaltungen für Ueli Fisch
BEGIN:VTIMEZONE
TZID:Europe/Zurich
BEGIN:DAYLIGHT
TZOFFSETFROM:+0100
TZOFFSETTO:+0200
TZNAME:CEST
DTSTART:20200329T010000
END:DAYLIGHT
BEGIN:STANDARD
TZOFFSETFROM:+0200
TZOFFSETTO:+0100
TZNAME:CET
DTSTART:20201025T010000
END:STANDARD
END:VTIMEZONE
BEGIN:VEVENT
DTSTART;TZID=Europe/Zurich:20200217T193000
DTEND;TZID=Europe/Zurich:20200217T210000
DTSTAMP:20231114T010247
CREATED:20200128T202427Z
LAST-MODIFIED:20200128T202427Z
UID:13945-1581967800-1581973200@www.uelifisch.ch
SUMMARY:Regierungsrats-Podium Tele Top & Radio Top
DESCRIPTION:Tele Top und Radio Top organisieren ein Podium mit den bisherigen Regierungsrätinnen und Regierungsräten sowie den drei neu Kandidierenden. \n19.30 Uhr im Eisenwerk Frauenfeld \nLive im Radio Top \nAufgezeichnet für Tele Top für die Sendung vom 18.2.2020
URL:https://www.uelifisch.ch/agende/regierungsrats-podium-tele-top-radio-top/
LOCATION:Eisenwerk Frauenfeld
ATTACH;FMTTYPE=image/jpeg:https://www.uelifisch.ch/wp-content/uploads/2020/01/PodiumTeleTop.jpg
END:VEVENT
END:VCALENDAR