BEGIN:VCALENDAR
VERSION:2.0
PRODID:-//Ueli Fisch - ECPv5.6.0//NONSGML v1.0//EN
CALSCALE:GREGORIAN
METHOD:PUBLISH
X-WR-CALNAME:Ueli Fisch
X-ORIGINAL-URL:https://www.uelifisch.ch
X-WR-CALDESC:Veranstaltungen für Ueli Fisch
BEGIN:VTIMEZONE
TZID:Europe/Zurich
BEGIN:DAYLIGHT
TZOFFSETFROM:+0100
TZOFFSETTO:+0200
TZNAME:CEST
DTSTART:20200329T010000
END:DAYLIGHT
BEGIN:STANDARD
TZOFFSETFROM:+0200
TZOFFSETTO:+0100
TZNAME:CET
DTSTART:20201025T010000
END:STANDARD
END:VTIMEZONE
BEGIN:VEVENT
DTSTART;TZID=Europe/Zurich:20200204T143000
DTEND;TZID=Europe/Zurich:20200204T153000
DTSTAMP:20260420T100207
CREATED:20200128T203507Z
LAST-MODIFIED:20200128T203519Z
UID:13952-1580826600-1580830200@www.uelifisch.ch
SUMMARY:Regierungsrats-Podium Tele D
DESCRIPTION:Tele D zeichnet ein Podium mit den bisherigen Regierungsrätinnen und Regierungsräten und im zweiten Teil eines mit den drei neu Kandidierenden auf. \nDas Datum der Ausstrahlung folgt noch.
URL:https://www.uelifisch.ch/agende/regierungsrats-podium-tele-d/
LOCATION:Tele D\, Fernsehstudio\, Diessenhofen
END:VEVENT
END:VCALENDAR