BEGIN:VCALENDAR
VERSION:2.0
PRODID:-//Ueli Fisch - ECPv5.6.0//NONSGML v1.0//EN
CALSCALE:GREGORIAN
METHOD:PUBLISH
X-WR-CALNAME:Ueli Fisch
X-ORIGINAL-URL:https://www.uelifisch.ch
X-WR-CALDESC:Veranstaltungen für Ueli Fisch
BEGIN:VTIMEZONE
TZID:Europe/Zurich
BEGIN:DAYLIGHT
TZOFFSETFROM:+0100
TZOFFSETTO:+0200
TZNAME:CEST
DTSTART:20200329T010000
END:DAYLIGHT
BEGIN:STANDARD
TZOFFSETFROM:+0200
TZOFFSETTO:+0100
TZNAME:CET
DTSTART:20201025T010000
END:STANDARD
END:VTIMEZONE
BEGIN:VEVENT
DTSTART;TZID=Europe/Zurich:20200222T093000
DTEND;TZID=Europe/Zurich:20200222T113000
DTSTAMP:20260420T100229
CREATED:20200128T201738Z
LAST-MODIFIED:20200210T082139Z
UID:13939-1582363800-1582371000@www.uelifisch.ch
SUMMARY:Regierungsrats-Podium Aadorf
DESCRIPTION:Die Interpartei des Bezirks Münchwilen organisiert ein Podium mit allen bisherigen Regierungsrätinnen und Regierungsräten sowie den drei neu Kandidierenden. \n09.30 bis ca. 11.30 Uhr Gemeindezentrum Aadorf \nEinladung zur Wahlveranstaltung Regierungsrat
URL:https://www.uelifisch.ch/agende/regierungsrats-podium-aadorf/
LOCATION:Aadorf Gemeindezentrum\, Aadorf\, Schweiz
END:VEVENT
END:VCALENDAR