BEGIN:VCALENDAR
VERSION:2.0
PRODID:-//Ueli Fisch - ECPv5.6.0//NONSGML v1.0//EN
CALSCALE:GREGORIAN
METHOD:PUBLISH
X-WR-CALNAME:Ueli Fisch
X-ORIGINAL-URL:https://www.uelifisch.ch
X-WR-CALDESC:Veranstaltungen für Ueli Fisch
BEGIN:VTIMEZONE
TZID:Europe/Paris
BEGIN:DAYLIGHT
TZOFFSETFROM:+0100
TZOFFSETTO:+0200
TZNAME:CEST
DTSTART:20160327T010000
END:DAYLIGHT
BEGIN:STANDARD
TZOFFSETFROM:+0200
TZOFFSETTO:+0100
TZNAME:CET
DTSTART:20161030T010000
END:STANDARD
END:VTIMEZONE
BEGIN:VEVENT
DTSTART;TZID=Europe/Paris:20160212T150000
DTEND;TZID=Europe/Paris:20160212T160000
DTSTAMP:20231114T050457
CREATED:20160131T180251Z
LAST-MODIFIED:20160131T180251Z
UID:12453-1455289200-1455292800@www.uelifisch.ch
SUMMARY:Radio SRF Regionaljournal Ostschweiz - Aufzeichnung Streitgespräch Schönholzer/Fisch
DESCRIPTION:Das Regionaljournal Ostschweiz von Radio SRF zeichnet ein Streitgespräch zwischen Walter Schönholzer und mir auf. Die Sendedaten weiss ich noch nicht\, werde diese aber nachliefern.
URL:https://www.uelifisch.ch/agende/radio-srf-regionaljournal-ostschweiz-aufzeichnung-streitgespraech-schoenholzerfisch/
LOCATION:Radio SRF Regionaljournal Ostschweiz\, St. Gallen 
END:VEVENT
END:VCALENDAR