BEGIN:VCALENDAR
VERSION:2.0
PRODID:-//Ueli Fisch - ECPv5.6.0//NONSGML v1.0//EN
CALSCALE:GREGORIAN
METHOD:PUBLISH
X-WR-CALNAME:Ueli Fisch
X-ORIGINAL-URL:https://www.uelifisch.ch
X-WR-CALDESC:Veranstaltungen für Ueli Fisch
BEGIN:VTIMEZONE
TZID:Europe/Zurich
BEGIN:DAYLIGHT
TZOFFSETFROM:+0100
TZOFFSETTO:+0200
TZNAME:CEST
DTSTART:20190331T010000
END:DAYLIGHT
BEGIN:STANDARD
TZOFFSETFROM:+0200
TZOFFSETTO:+0100
TZNAME:CET
DTSTART:20191027T010000
END:STANDARD
END:VTIMEZONE
BEGIN:VEVENT
DTSTART;TZID=Europe/Zurich:20190921T080000
DTEND;TZID=Europe/Zurich:20190921T120000
DTSTAMP:20231114T030703
CREATED:20190712T071644Z
LAST-MODIFIED:20190712T071644Z
UID:13345-1569052800-1569067200@www.uelifisch.ch
SUMMARY:Politcorner auf dem Grubplatz Bischofszell
DESCRIPTION:Sämtliche Parteien stellen Ihre Kandidatinnen und Kandidaten für die nationalen Wahlen vor. Der Politcorner findet am dem Grubplatz Bischofszell statt.
URL:https://www.uelifisch.ch/agende/politcorner-auf-dem-grubplatz-bischofszell/
END:VEVENT
END:VCALENDAR