BEGIN:VCALENDAR
VERSION:2.0
PRODID:-//Ueli Fisch - ECPv5.6.0//NONSGML v1.0//EN
CALSCALE:GREGORIAN
METHOD:PUBLISH
X-WR-CALNAME:Ueli Fisch
X-ORIGINAL-URL:https://www.uelifisch.ch
X-WR-CALDESC:Veranstaltungen für Ueli Fisch
BEGIN:VTIMEZONE
TZID:Europe/Paris
BEGIN:DAYLIGHT
TZOFFSETFROM:+0100
TZOFFSETTO:+0200
TZNAME:CEST
DTSTART:20160327T010000
END:DAYLIGHT
BEGIN:STANDARD
TZOFFSETFROM:+0200
TZOFFSETTO:+0100
TZNAME:CET
DTSTART:20161030T010000
END:STANDARD
END:VTIMEZONE
BEGIN:VEVENT
DTSTART;TZID=Europe/Paris:20160120T184500
DTEND;TZID=Europe/Paris:20160120T210000
DTSTAMP:20231114T012028
CREATED:20151122T154101Z
LAST-MODIFIED:20160115T144046Z
UID:12079-1453315500-1453323600@www.uelifisch.ch
SUMMARY:Podiumsgespräch Thurgauer Zeitung zu den Regierungsratswahlen
DESCRIPTION:Wer regiert den Thurgau? Der Kampf um die fünf Regierungsratssitze \nDrei Männer und drei Frauen kämpfen um die fünf Sitze im Regierungsrat\, der am 28. Februar gewählt wird. Die Thurgauer Zeitung lädt am 20. Januar zu einem Podium mit allen sechs Kandidaten ein. Der Eintritt ist frei. \nJakob Stark\, SVP |Monika Knill\, SVP |Carmen Haag\, CVP |Cornelia Komposch\, SP\nWalter Schönholzer\, FDP | Ueli Fisch\, GLP \nMittwoch\, 20. Januar 2016 | Rathaus Weinfelden \n\nAb 18.45 Glühwein vor dem Rathaus\n19.30 Uhr Beginn der Veranstaltung im Rathaussaal\, Weinfelden\n\nModeration: David Angst und Mario Testa \nRahmenprogramm: \nNationalrat Arnold Schnyder berichtet über seine erste Session \nHier geht’s zum Flyer: http://www.uelifisch.ch/wp-content/uploads/2015/11/PodiumTZ.jpg \n 
URL:https://www.uelifisch.ch/agende/podiumsgespraech-thurgauer-zeitung-zu-den-regierungsratswahlen/
LOCATION:Weinfelden\, Rathaus\, Rathaussstrasse \, Weinfelden\, 8570\, Schweiz
END:VEVENT
END:VCALENDAR