BEGIN:VCALENDAR
VERSION:2.0
PRODID:-//Ueli Fisch - ECPv5.6.0//NONSGML v1.0//EN
CALSCALE:GREGORIAN
METHOD:PUBLISH
X-WR-CALNAME:Ueli Fisch
X-ORIGINAL-URL:https://www.uelifisch.ch
X-WR-CALDESC:Veranstaltungen für Ueli Fisch
BEGIN:VTIMEZONE
TZID:Europe/Paris
BEGIN:DAYLIGHT
TZOFFSETFROM:+0100
TZOFFSETTO:+0200
TZNAME:CEST
DTSTART:20160327T010000
END:DAYLIGHT
BEGIN:STANDARD
TZOFFSETFROM:+0200
TZOFFSETTO:+0100
TZNAME:CET
DTSTART:20161030T010000
END:STANDARD
END:VTIMEZONE
BEGIN:VEVENT
DTSTART;TZID=Europe/Paris:20160517T183000
DTEND;TZID=Europe/Paris:20160517T210000
DTSTAMP:20231114T042752
CREATED:20160517T091350Z
LAST-MODIFIED:20160517T091350Z
UID:12648-1463509800-1463518800@www.uelifisch.ch
SUMMARY:Podium St. Galler Tagblatt: Brauchen wir die Expo2027?
DESCRIPTION:Am 5. Juni entscheiden die Stimmbürger im Kanton St. Gallen und im Kanton Thurgau über den Planungskredit für die Expo2027. Was ist besser für die Ostschweiz und ihre Bewohner: Ein Ja oder ein Nein? \nDazu führt das St. Galler Tagblatt am 17. Mai 2016 ein Podium im Pfalzkeller durch. \nab 18.30 Uhr offeriert das St. Galler Tagblatt Bratwurst mit Bürli\num 19.15 Uhr startet die Podiumsdiskussion \nProgramm: \nVorstellung des Expo-Konzepts „Expedition27“\nMarkus Schaefer\, Hosoyaschaefer Architects\, Zürich\nRobin Winogrond\, Studio Vulkan\, Landschaftsarchtiektur\, Zürich \nPodiumsdiskussion\nPro\nMarc Mächler\, Regierungsrat FDP\nBeni Würth\, Regierungsrat CVP \nContra\nEsther Friedli\, SVP; Co-Präsidium Komitee „Expo-Nein“\nToni Thoma\, Kantonsrat SVP\, Co-Präsidium Komitee „Expo-Nein“ \nDer Blick in den Thurgau\nUeli Fisch\, Kantonsrat Grünliberale \n 
URL:https://www.uelifisch.ch/agende/podium-st-galler-tagblatt-brauchen-wir-die-expo2027/
LOCATION:Pfalzkeller St. Gallen\, Klosterhof\, St. Gallen\, SG\, 9000\, Schweiz
ATTACH;FMTTYPE=image/jpeg:https://www.uelifisch.ch/wp-content/uploads/2016/05/FullSizeRender.jpg
END:VEVENT
END:VCALENDAR