BEGIN:VCALENDAR
VERSION:2.0
PRODID:-//Ueli Fisch - ECPv5.6.0//NONSGML v1.0//EN
CALSCALE:GREGORIAN
METHOD:PUBLISH
X-WR-CALNAME:Ueli Fisch
X-ORIGINAL-URL:https://www.uelifisch.ch
X-WR-CALDESC:Veranstaltungen für Ueli Fisch
BEGIN:VTIMEZONE
TZID:Europe/Zurich
BEGIN:DAYLIGHT
TZOFFSETFROM:+0100
TZOFFSETTO:+0200
TZNAME:CEST
DTSTART:20220327T010000
END:DAYLIGHT
BEGIN:STANDARD
TZOFFSETFROM:+0200
TZOFFSETTO:+0100
TZNAME:CET
DTSTART:20221030T010000
END:STANDARD
END:VTIMEZONE
BEGIN:VEVENT
DTSTART;TZID=Europe/Zurich:20221103T190000
DTEND;TZID=Europe/Zurich:20221103T210000
DTSTAMP:20231113T203229
CREATED:20220828T192445Z
LAST-MODIFIED:20221011T215019Z
UID:14492-1667502000-1667509200@www.uelifisch.ch
SUMMARY:Podium Interpartei Weinfelden zu den Stadtratswahlen 2022
DESCRIPTION:Podium mit den Kandidaten für Stadtpräsidium Weinfelden und den Kandidat:innen für den Stadtrat
URL:https://www.uelifisch.ch/agende/podium-interpartei-weinfelden-zu-den-stadtratswahlen-2022/
LOCATION:Weinfelden\, Rathaus\, Rathaussstrasse \, Weinfelden\, 8570\, Schweiz
ATTACH;FMTTYPE=image/png:https://www.uelifisch.ch/wp-content/uploads/2022/08/interpartei-3.11.22.png
END:VEVENT
END:VCALENDAR