BEGIN:VCALENDAR
VERSION:2.0
PRODID:-//Ueli Fisch - ECPv5.6.0//NONSGML v1.0//EN
CALSCALE:GREGORIAN
METHOD:PUBLISH
X-WR-CALNAME:Ueli Fisch
X-ORIGINAL-URL:https://www.uelifisch.ch
X-WR-CALDESC:Veranstaltungen für Ueli Fisch
BEGIN:VTIMEZONE
TZID:Europe/Paris
BEGIN:DAYLIGHT
TZOFFSETFROM:+0100
TZOFFSETTO:+0200
TZNAME:CEST
DTSTART:20160327T010000
END:DAYLIGHT
BEGIN:STANDARD
TZOFFSETFROM:+0200
TZOFFSETTO:+0100
TZNAME:CET
DTSTART:20161030T010000
END:STANDARD
END:VTIMEZONE
BEGIN:VEVENT
DTSTART;TZID=Europe/Paris:20160121T193000
DTEND;TZID=Europe/Paris:20160121T220000
DTSTAMP:20231114T024450
CREATED:20151122T154304Z
LAST-MODIFIED:20160114T154620Z
UID:12082-1453404600-1453413600@www.uelifisch.ch
SUMMARY:Mitgliederversammlung Grünliberale Thurgau
DESCRIPTION:An der Mitgliederversammlung der glp Thurgau werden die Parolen für die Eidgenössischen Abstimmungen vom 28. Februar 2015 beschlossen.
URL:https://www.uelifisch.ch/agende/mitgliederversammlung-gruenliberale-thurgau/
LOCATION:Kongresszentrum Thurgauerhof Weinfelden\, Thomas-Bornhauser-Strasse 10\, Weinfelden\, 8570\, Schweiz
END:VEVENT
END:VCALENDAR