BEGIN:VCALENDAR
VERSION:2.0
PRODID:-//Ueli Fisch - ECPv5.6.0//NONSGML v1.0//EN
CALSCALE:GREGORIAN
METHOD:PUBLISH
X-WR-CALNAME:Ueli Fisch
X-ORIGINAL-URL:https://www.uelifisch.ch
X-WR-CALDESC:Veranstaltungen für Ueli Fisch
BEGIN:VTIMEZONE
TZID:Europe/Zurich
BEGIN:DAYLIGHT
TZOFFSETFROM:+0100
TZOFFSETTO:+0200
TZNAME:CEST
DTSTART:20220327T010000
END:DAYLIGHT
BEGIN:STANDARD
TZOFFSETFROM:+0200
TZOFFSETTO:+0100
TZNAME:CET
DTSTART:20221030T010000
END:STANDARD
END:VTIMEZONE
BEGIN:VEVENT
DTSTART;TZID=Europe/Zurich:20220825T180000
DTEND;TZID=Europe/Zurich:20220825T213000
DTSTAMP:20231114T224619
CREATED:20220816T191730Z
LAST-MODIFIED:20220816T191820Z
UID:14468-1661450400-1661463000@www.uelifisch.ch
SUMMARY:Mitgliederversammlung Grünliberale Thurgau mit Podium zur Energieversorgung: Die Schweiz ist keine Insel
DESCRIPTION:Mitgliederversammlung GLP Thurgau\, Rathaus Frauenfeld\, 25.08.2022\, 18:00 h \nDie GLP Thurgau lädt alle Mitglieder und SympathisantInnen zur Mitgliederversammlung mit anschliessendem Podium im Rathaussaal Frauenfeld ein. \nIn der Pause zwischen Versammlung und Podium wird ein kleiner Imbiss angeboten. \nTraktanden\n1. Begrüssung\, Traktandenliste\n2. Protokoll der MV vom 21. März 2022\n3. Bericht aus der GLP TG\n4. Präsentation und Fassung von drei Abstimmungsparolen * :\n– Bundesgesetz über die Alters- und Hinterlassenenversicherung\n– Zusatzfinanzierung der AHV durch eine Erhöhung der Mehrwertsteuer\n– Massentierhaltungs-Initiative\n5. Finanzen\n6. Personelles / Wahlen \n7. Diverses und Umfrage \n* für die vierte Abstimmungsvorlage – die Revision des Verrechnungssteuergesetzes – hat der kantonale Vorstand bereits vorab die JA-Parole (Ablehnung des Referendums) gefasst. \n19:10 Pause / Imbiss / Umbau für Podium \n19:30 – 21:30 Öffentliches Podium  „Die Schweiz: Energie-Insel in Europa?“ mit hochkarätigen Fachleuten aus Wissenschaft\, Politik und der Versorgerbranche. \nIm Anschluss an die Veranstaltung sind alle Anwesenden herzlich zu einem Apéro eingeladen.
URL:https://www.uelifisch.ch/agende/mitgliederversammlung-gruenliberale-thurgau-25-8-22-podium-zur-energieversorgung-die-schweiz-ist-keine-insel/
LOCATION:Frauenfeld Rathaus Grosser Bürgersaal
END:VEVENT
END:VCALENDAR