BEGIN:VCALENDAR
VERSION:2.0
PRODID:-//Ueli Fisch - ECPv5.6.0//NONSGML v1.0//EN
CALSCALE:GREGORIAN
METHOD:PUBLISH
X-WR-CALNAME:Ueli Fisch
X-ORIGINAL-URL:https://www.uelifisch.ch
X-WR-CALDESC:Veranstaltungen für Ueli Fisch
BEGIN:VTIMEZONE
TZID:Europe/Paris
BEGIN:DAYLIGHT
TZOFFSETFROM:+0100
TZOFFSETTO:+0200
TZNAME:CEST
DTSTART:20190331T010000
END:DAYLIGHT
BEGIN:STANDARD
TZOFFSETFROM:+0200
TZOFFSETTO:+0100
TZNAME:CET
DTSTART:20191027T010000
END:STANDARD
END:VTIMEZONE
BEGIN:VEVENT
DTSTART;TZID=Europe/Paris:20190424T190000
DTEND;TZID=Europe/Paris:20190424T223000
DTSTAMP:20231114T035327
CREATED:20190317T175746Z
LAST-MODIFIED:20190317T175746Z
UID:13114-1556132400-1556145000@www.uelifisch.ch
SUMMARY:Mitgliederversammlung glp Thurgau - Nominationen für die NR/SR-Wahlen
DESCRIPTION:Mitgliederversammlung der glp Thurgau mit der Nomination der Kandidatinnen und Kandidaten für die National- und Ständeratswahlen 2019. Zudem werden für die Eidgenössischen Abstimmungen und die kantonale Abstimmung (Volksinitiative „Offenheit statt Geheimhaltung“) die Parolen gefasst.
URL:https://www.uelifisch.ch/agende/mitgliederversammlung-glp-thurgau-nominationen-fuer-die-nr-sr-wahlen/
LOCATION:Bezirk Münchwilen\, Gemeinde- und Kulturzentrum\, Aadorf
END:VEVENT
END:VCALENDAR