BEGIN:VCALENDAR
VERSION:2.0
PRODID:-//Ueli Fisch - ECPv5.6.0//NONSGML v1.0//EN
CALSCALE:GREGORIAN
METHOD:PUBLISH
X-WR-CALNAME:Ueli Fisch
X-ORIGINAL-URL:https://www.uelifisch.ch
X-WR-CALDESC:Veranstaltungen für Ueli Fisch
BEGIN:VTIMEZONE
TZID:Europe/Paris
BEGIN:DAYLIGHT
TZOFFSETFROM:+0100
TZOFFSETTO:+0200
TZNAME:CEST
DTSTART:20160327T010000
END:DAYLIGHT
BEGIN:STANDARD
TZOFFSETFROM:+0200
TZOFFSETTO:+0100
TZNAME:CET
DTSTART:20161030T010000
END:STANDARD
END:VTIMEZONE
BEGIN:VEVENT
DTSTART;TZID=Europe/Paris:20161024T194500
DTEND;TZID=Europe/Paris:20161024T220000
DTSTAMP:20231114T042253
CREATED:20160917T105929Z
LAST-MODIFIED:20161013T063902Z
UID:12679-1477338300-1477346400@www.uelifisch.ch
SUMMARY:Mitgliederversammlung glp Thurgau mit Parolenfassung in Bischofszell
DESCRIPTION:Die Grünliberalen fassen die Parolen für die Volksabstimmungen vom 27. November 2016 \nDer Bischofszeller Stadtpräsident Thomas Weingart wird zu Beginn der Veranstaltung Grussworte an die Anwesenden richten und die neugegründete Ortspartei der Grünliberalen Bischofszell unter Präsident Jorim Schäfer-Truffer willkommen heissen. \nDie zu diskutierenden Vorlagen sind die folgenden: \n1) Kantonale Volksinitiative “Ja zu einer guten Thurgauer Volksschule“\n• Pro: Alain Pichard (Stadtrat glp Biel)\n• Kontra: Anne Varenne (Präsidentin Bildung Thurgau\, CVP) \n2) Eidgenössische Volksinitiative “Für einen geordneten Ausstieg aus der Atomenergie“\n• Pro: Kantonsrat Stefan Leuthold (glp)\n• Kontra: Nationalrat Hermann Hess (FDP) \nAnschliessend an die Parolenfassung beschliessen wir noch über das Budget 2017 der Grünliberalen Thurgau. \nZum Abschluss der Veranstaltung offeriert die Grünliberale Ortspartei Bischofszell einen Apéro\, zu dem alle herzliche eingeladen sind. \nDer Anlass ist öffentlich\, auch Nicht-Mitglieder sind herzlich eingeladen.
URL:https://www.uelifisch.ch/agende/mitgliederversammlung-glp-thurgau-mit-parolenfassung/
LOCATION:Bischofszell\, Schniderbudig (Grubplatz)\, Grubplatz\, Bischofszell\, 9220\, Schweiz
END:VEVENT
END:VCALENDAR