BEGIN:VCALENDAR
VERSION:2.0
PRODID:-//Ueli Fisch - ECPv5.6.0//NONSGML v1.0//EN
CALSCALE:GREGORIAN
METHOD:PUBLISH
X-WR-CALNAME:Ueli Fisch
X-ORIGINAL-URL:https://www.uelifisch.ch
X-WR-CALDESC:Veranstaltungen für Ueli Fisch
BEGIN:VTIMEZONE
TZID:Europe/Paris
BEGIN:DAYLIGHT
TZOFFSETFROM:+0100
TZOFFSETTO:+0200
TZNAME:CEST
DTSTART:20180325T010000
END:DAYLIGHT
BEGIN:STANDARD
TZOFFSETFROM:+0200
TZOFFSETTO:+0100
TZNAME:CET
DTSTART:20181028T010000
END:STANDARD
END:VTIMEZONE
BEGIN:VEVENT
DTSTART;TZID=Europe/Paris:20181030T193000
DTEND;TZID=Europe/Paris:20181030T220000
DTSTAMP:20231114T033640
CREATED:20180905T134240Z
LAST-MODIFIED:20180924T184333Z
UID:12986-1540927800-1540936800@www.uelifisch.ch
SUMMARY:Mitgliederversammlung glp Thurgau
DESCRIPTION:Parolenfassung für die Eidgenössischen Abstimmungen vom 25.11.2018
URL:https://www.uelifisch.ch/agende/mitgliederversammlung-glp-thurgau-3/
END:VEVENT
END:VCALENDAR