BEGIN:VCALENDAR
VERSION:2.0
PRODID:-//Ueli Fisch - ECPv5.6.0//NONSGML v1.0//EN
CALSCALE:GREGORIAN
METHOD:PUBLISH
X-WR-CALNAME:Ueli Fisch
X-ORIGINAL-URL:https://www.uelifisch.ch
X-WR-CALDESC:Veranstaltungen für Ueli Fisch
BEGIN:VTIMEZONE
TZID:Europe/Zurich
BEGIN:DAYLIGHT
TZOFFSETFROM:+0100
TZOFFSETTO:+0200
TZNAME:CEST
DTSTART:20200329T010000
END:DAYLIGHT
BEGIN:STANDARD
TZOFFSETFROM:+0200
TZOFFSETTO:+0100
TZNAME:CET
DTSTART:20201025T010000
END:STANDARD
END:VTIMEZONE
BEGIN:VEVENT
DTSTART;TZID=Europe/Zurich:20200213T191500
DTEND;TZID=Europe/Zurich:20200213T200000
DTSTAMP:20231114T014156
CREATED:20200128T204723Z
LAST-MODIFIED:20200128T205811Z
UID:13959-1581621300-1581624000@www.uelifisch.ch
SUMMARY:Mitgliederversammlung EVP Thurgau - Vorstellung als Regierungsratskandidat
DESCRIPTION:Ich darf mich bei den Mitgliedern der EVP Thurgau vorstellen
URL:https://www.uelifisch.ch/agende/mitgliederversammlung-evp-thurgau-vorstellung/
LOCATION:Frauenfeld
END:VEVENT
END:VCALENDAR