BEGIN:VCALENDAR
VERSION:2.0
PRODID:-//Ueli Fisch - ECPv5.6.0//NONSGML v1.0//EN
CALSCALE:GREGORIAN
METHOD:PUBLISH
X-WR-CALNAME:Ueli Fisch
X-ORIGINAL-URL:https://www.uelifisch.ch
X-WR-CALDESC:Veranstaltungen für Ueli Fisch
BEGIN:VTIMEZONE
TZID:Europe/Zurich
BEGIN:DAYLIGHT
TZOFFSETFROM:+0100
TZOFFSETTO:+0200
TZNAME:CEST
DTSTART:20200329T010000
END:DAYLIGHT
BEGIN:STANDARD
TZOFFSETFROM:+0200
TZOFFSETTO:+0100
TZNAME:CET
DTSTART:20201025T010000
END:STANDARD
END:VTIMEZONE
BEGIN:VEVENT
DTSTART;TZID=Europe/Zurich:20200226T173000
DTEND;TZID=Europe/Zurich:20200226T180000
DTSTAMP:20231114T011504
CREATED:20200128T203152Z
LAST-MODIFIED:20200128T203152Z
UID:13950-1582738200-1582740000@www.uelifisch.ch
SUMMARY:Live Interview Radio SRF Regionaljournal Ostschweiz
DESCRIPTION:Ich bin live im Studio und stelle mich den Fragen von Peter Schürmann vom Radio SRF Regionaljournal Ostschweiz.
URL:https://www.uelifisch.ch/agende/live-interview-radio-srf-regionaljournal-ostschweiz/
LOCATION:Radio SRF Regionaljournal Ostschweiz\, St. Gallen 
END:VEVENT
END:VCALENDAR