BEGIN:VCALENDAR
VERSION:2.0
PRODID:-//Ueli Fisch - ECPv5.6.0//NONSGML v1.0//EN
CALSCALE:GREGORIAN
METHOD:PUBLISH
X-WR-CALNAME:Ueli Fisch
X-ORIGINAL-URL:https://www.uelifisch.ch
X-WR-CALDESC:Veranstaltungen für Ueli Fisch
BEGIN:VTIMEZONE
TZID:Europe/Paris
BEGIN:DAYLIGHT
TZOFFSETFROM:+0100
TZOFFSETTO:+0200
TZNAME:CEST
DTSTART:20160327T010000
END:DAYLIGHT
BEGIN:STANDARD
TZOFFSETFROM:+0200
TZOFFSETTO:+0100
TZNAME:CET
DTSTART:20161030T010000
END:STANDARD
END:VTIMEZONE
BEGIN:VEVENT
DTSTART;TZID=Europe/Paris:20160312T090000
DTEND;TZID=Europe/Paris:20160312T130000
DTSTAMP:20231114T042057
CREATED:20160306T185521Z
LAST-MODIFIED:20160306T185521Z
UID:12573-1457773200-1457787600@www.uelifisch.ch
SUMMARY:Kantonsratswahlen - Roadshow Bischofszell-Sulgen-Berg
DESCRIPTION:Kandidatinnen und Kandidaten der Grünliberalen des Bezirks Weinfelden sind in Bischofszell\, Sulgen und Berg vor Ort\, um sich der Bevölkerung vorzustellen.
URL:https://www.uelifisch.ch/agende/kantonsratswahlen-roadshow-bischofszell-sulgen-berg/
LOCATION:Roadshow Bischofszell-Sulgen-Berg
END:VEVENT
END:VCALENDAR