BEGIN:VCALENDAR
VERSION:2.0
PRODID:-//Ueli Fisch - ECPv5.6.0//NONSGML v1.0//EN
CALSCALE:GREGORIAN
METHOD:PUBLISH
X-WR-CALNAME:Ueli Fisch
X-ORIGINAL-URL:https://www.uelifisch.ch
X-WR-CALDESC:Veranstaltungen für Ueli Fisch
BEGIN:VTIMEZONE
TZID:Europe/Paris
BEGIN:DAYLIGHT
TZOFFSETFROM:+0100
TZOFFSETTO:+0200
TZNAME:CEST
DTSTART:20160327T010000
END:DAYLIGHT
BEGIN:STANDARD
TZOFFSETFROM:+0200
TZOFFSETTO:+0100
TZNAME:CET
DTSTART:20161030T010000
END:STANDARD
END:VTIMEZONE
BEGIN:VEVENT
DTSTART;TZID=Europe/Paris:20160410T170000
DTEND;TZID=Europe/Paris:20160410T190000
DTSTAMP:20231114T043530
CREATED:20160306T190239Z
LAST-MODIFIED:20160404T063338Z
UID:12579-1460307600-1460314800@www.uelifisch.ch
SUMMARY:Wahlfeier glp Bezirk Weinfelden
DESCRIPTION:Wir treffen uns im Restaurant Löwen in Weinfelden\, um auf unseren hoffentlich grossen Erfolg anzustossen. Alle Mitglieder (mit Partner) sind herzlich eingeladen.
URL:https://www.uelifisch.ch/agende/kantonsratswahlen-glp-an-der-artgarden-in-weinfelden/
LOCATION:Rest. Löwen Weinfelden\, Rathausstrasse 8\, Weinfelden\, 8570\, Schweiz
END:VEVENT
END:VCALENDAR